BEGIN:VCALENDAR
VERSION:2.0
PRODID:-//eventon.com NONSGML v1.0//EN
CALSCALE:GREGORIAN
METHOD:PUBLISH
BEGIN:VEVENT
UID:69e51f18e9692
DTSTAMP:20260419T182944Z
DTSTART:20230504T223000Z
DTEND:20230505T003000Z
LOCATION:Ulrich Museum of Aart 1845 Fairmount St
SUMMARY:How To Talk About Feeling Bad
DESCRIPTION:Suicide Prevention Resource LaunchThursday\,  May 4 5:30 &#8211
 ; 7:30 p.m.Ulrich Museum of Art (WSU Campus\,  1845 Fairmount St\,  Wichita
 \,  KS) It goes without saying that it can be difficult to talk about suici
 de. So difficult\,  in fact\,  that we usually avoid the topic entirely. Bu
 t there’s a reason to push[..]\nhttps://wichitajournalism.org/events/how-
 to-talk-about-feeling-bad/
URL:https://wichitajournalism.org/events/how-to-talk-about-feeling-bad/
END:VEVENT
END:VCALENDAR