BEGIN:VCALENDAR
VERSION:2.0
PRODID:-//eventon.com NONSGML v1.0//EN
CALSCALE:GREGORIAN
METHOD:PUBLISH
BEGIN:VEVENT
UID:69e936b0b4d7d
DTSTAMP:20260422T205928Z
DTSTART:20240613T110000Z
DTEND:20240613T130000Z
LOCATION:Advanced Learning Library 711 W. Second St
SUMMARY:News Connect
DESCRIPTION:A casual\,  come-and-go time when you can meet with local journ
 alists. Share a story idea! Ask them how they do their work!\nhttps://wichi
 tajournalism.org/events/news-connect-2/
URL:https://wichitajournalism.org/events/news-connect-2/
END:VEVENT
END:VCALENDAR